BEGIN:VCALENDAR
VERSION:2.0
PRODID:-//AMS Workplace Technology - ECPv6.13.2.1//NONSGML v1.0//EN
CALSCALE:GREGORIAN
METHOD:PUBLISH
X-WR-CALNAME:AMS Workplace Technology
X-ORIGINAL-URL:https://amsworkplace.com
X-WR-CALDESC:Events for AMS Workplace Technology
REFRESH-INTERVAL;VALUE=DURATION:PT1H
X-Robots-Tag:noindex
X-PUBLISHED-TTL:PT1H
BEGIN:VTIMEZONE
TZID:America/New_York
BEGIN:DAYLIGHT
TZOFFSETFROM:-0500
TZOFFSETTO:-0400
TZNAME:EDT
DTSTART:20190310T070000
END:DAYLIGHT
BEGIN:STANDARD
TZOFFSETFROM:-0400
TZOFFSETTO:-0500
TZNAME:EST
DTSTART:20191103T060000
END:STANDARD
BEGIN:DAYLIGHT
TZOFFSETFROM:-0500
TZOFFSETTO:-0400
TZNAME:EDT
DTSTART:20200308T070000
END:DAYLIGHT
BEGIN:STANDARD
TZOFFSETFROM:-0400
TZOFFSETTO:-0500
TZNAME:EST
DTSTART:20201101T060000
END:STANDARD
BEGIN:DAYLIGHT
TZOFFSETFROM:-0500
TZOFFSETTO:-0400
TZNAME:EDT
DTSTART:20210314T070000
END:DAYLIGHT
BEGIN:STANDARD
TZOFFSETFROM:-0400
TZOFFSETTO:-0500
TZNAME:EST
DTSTART:20211107T060000
END:STANDARD
BEGIN:DAYLIGHT
TZOFFSETFROM:-0500
TZOFFSETTO:-0400
TZNAME:EDT
DTSTART:20220313T070000
END:DAYLIGHT
BEGIN:STANDARD
TZOFFSETFROM:-0400
TZOFFSETTO:-0500
TZNAME:EST
DTSTART:20221106T060000
END:STANDARD
BEGIN:DAYLIGHT
TZOFFSETFROM:-0500
TZOFFSETTO:-0400
TZNAME:EDT
DTSTART:20230312T070000
END:DAYLIGHT
BEGIN:STANDARD
TZOFFSETFROM:-0400
TZOFFSETTO:-0500
TZNAME:EST
DTSTART:20231105T060000
END:STANDARD
END:VTIMEZONE
BEGIN:VEVENT
DTSTART;VALUE=DATE:20230411
DTEND;VALUE=DATE:20230414
DTSTAMP:20260423T172041
CREATED:20230118T181818Z
LAST-MODIFIED:20230118T190253Z
UID:20365-1681171200-1681430399@amsworkplace.com
SUMMARY:Building Insights - FM:Systems User Conference 2023
DESCRIPTION:Join us as we reimagine & transform workplace experiences at our annual User Conference – Building Insights 2023!  At Building Insights\, attendees will have access to industry thought leadership\, customer stories\, top-notch networking\, learning opportunities including training\, product updates\, & more. \nRegister to Attend
URL:https://amsworkplace.com/event/building-insights-fmsystems-user-conference-2023/
LOCATION:The Mayflower Hotel\, 1127 Connecticut Ave NW\, Washington\, DC\, 20036\, United States
CATEGORIES:CAFM,Conferences,Go CAFM
ATTACH;FMTTYPE=image/jpeg:https://amsworkplace.com/wp-content/uploads/2023/01/fmsystems_building_insights_2023.jpg
END:VEVENT
BEGIN:VEVENT
DTSTART;VALUE=DATE:20230321
DTEND;VALUE=DATE:20230324
DTSTAMP:20260423T172041
CREATED:20230224T172220Z
LAST-MODIFIED:20230224T173511Z
UID:20409-1679356800-1679615999@amsworkplace.com
SUMMARY:NFMT 2023 - Baltimore\, MD
DESCRIPTION:NFMT 2023 – Baltimore\, MD  National Facilities Management and Technology Conference and Expo\nLearn More \nWe are excited to announce that AMS Workplace Technology and iGuide are partnering together at the upcoming NFMT 2023 conference in Baltimore\, Maryland! \nThe NFMT conference is the premier event for facilities management professionals\, and we are thrilled to have the opportunity to showcase our innovative workplace technology solutions to attendees. \nAMS Workplace Technology is a leading provider of workplace management software and services that help companies optimize their workspaces and improve employee productivity. As a premier business partner of FM:Systems\, our cutting-edge software solutions integrate seamlessly with their workplace management platform\, enabling businesses to manage their workplace operations\, from space planning to occupancy tracking and beyond. \niGuide is an industry leader in immersive virtual tours and property mapping technology. Their iGuide technology allows facility managers to create accurate\, detailed\, and interactive 3D virtual tours of their properties\, providing a powerful tool for facility management and maintenance. \nTogether\, our partnership offers a powerful suite of workplace technology solutions that can help businesses optimize their facilities and improve their bottom line. At the NFMT 2023 conference\, attendees will have the opportunity to see our solutions in action and learn more about how they can benefit from them. \nIf you’re attending the NFMT conference\, be sure to stop by our booth # 725 and say hello! We can’t wait to share our technology with you and help you take your workplace management to the next level. \nLearn More
URL:https://amsworkplace.com/event/nfmt-2023-baltimore-md/
LOCATION:Baltimore Convention Center\, 1 W Pratt St\, Baltimore\, MD\, 21201\, United States
CATEGORIES:CAFM,Conferences,Go CAFM
ATTACH;FMTTYPE=image/jpeg:https://amsworkplace.com/wp-content/uploads/2023/02/NFMT-Baltimore2023-Header11.jpg
END:VEVENT
BEGIN:VEVENT
DTSTART;VALUE=DATE:20221101
DTEND;VALUE=DATE:20221104
DTSTAMP:20260423T172041
CREATED:20221024T175342Z
LAST-MODIFIED:20221024T175342Z
UID:20325-1667260800-1667519999@amsworkplace.com
SUMMARY:CoreNet Global Summit - Chicago
DESCRIPTION:AMS will be attending this year’s CoreNet Global Summit in Chicago\, IL. Contact us and let us know if you are attending. We would love to meet with you in person!
URL:https://amsworkplace.com/event/corenet-global-summit-chicago/
LOCATION:NJ
CATEGORIES:CAFM,Conferences,Go CAFM,Industry Workshops
ATTACH;FMTTYPE=image/jpeg:https://amsworkplace.com/wp-content/uploads/2022/10/CoreNet-Global-Summit-Chicago.jpg
END:VEVENT
BEGIN:VEVENT
DTSTART;VALUE=DATE:20221004
DTEND;VALUE=DATE:20221007
DTSTAMP:20260423T172041
CREATED:20220810T155719Z
LAST-MODIFIED:20220810T160239Z
UID:20294-1664841600-1665100799@amsworkplace.com
SUMMARY:Building Insights - FM:Systems User Conference 2022
DESCRIPTION:Join us as we reimagine & transform workplace experiences at our free virtual User Conference. At Building Insights\, attendees have access to company updates\, roadmap information\, customer success stories\, top-notch networking\, thought-provoking learning opportunities\, and more. \nRegister to Attend
URL:https://amsworkplace.com/event/building-insights-fmsystems-user-conference-2022/
LOCATION:Unnamed Venue\, NJ\, United States
CATEGORIES:CAFM,Conferences,Go CAFM
ATTACH;FMTTYPE=image/jpeg:https://amsworkplace.com/wp-content/uploads/2022/08/UC-Thumbnail-panorama1.jpg
END:VEVENT
BEGIN:VEVENT
DTSTART;VALUE=DATE:20211026
DTEND;VALUE=DATE:20211029
DTSTAMP:20260423T172041
CREATED:20210706T135835Z
LAST-MODIFIED:20210706T135835Z
UID:19035-1635206400-1635465599@amsworkplace.com
SUMMARY:IFMA World Workplace 2021
DESCRIPTION:Register to Attend \nNothing compares to IFMA’s World Workplace. As the original all-encompassing learning and networking event on facilities and how to manage them\, World Workplace remains the gold standard in facility management (FM) education\, knowledge exchange\, career development and professional network building. \nIFMA’s World Workplace has been leading groundbreaking discussions and discoveries related to FM and the built environment for 40 years. Hosted by the International Facility Management Association (IFMA)\, World Workplace facilitates idea sharing and best-practice exchange between all professionals who support the built environment. \nHeld in a different U.S. city annually with event programming focused on the latest topics of interest and concern to FM\, World Workplace offers a new experience each year. There’s program value for FM and related workplace professionals at every level of their careers and across all types of facilities. \n\nLearn to leverage data analytics to cut costs\, build quality and manage your building’s life cycle.\nLearn to integrate ever-changing technology for better facility control.\nPrepare for critical situations through improved planning and awareness.\nAchieve sustainability goals for the good of the business\, the people and the planet.\nImprove your talents in communication\, analysis\, strategy and negotiation.\nOptimize your business skills and develop your position as a leader.\nIFMA’s World Workplace also brings forward-thinking ideas\, strategies and solutions to Europe\, China and the Asia-Pacific.
URL:https://amsworkplace.com/event/ifma-world-workplace-2021/
LOCATION:United States
CATEGORIES:CAFM,Conferences,Go CAFM
ATTACH;FMTTYPE=image/jpeg:https://amsworkplace.com/wp-content/uploads/2021/07/IFMA-World-Workplace-2021.jpg
END:VEVENT
BEGIN:VEVENT
DTSTART;TZID=America/New_York:20210915T100000
DTEND;TZID=America/New_York:20210915T140000
DTSTAMP:20260423T172041
CREATED:20210706T133632Z
LAST-MODIFIED:20210913T141118Z
UID:19025-1631700000-1631714400@amsworkplace.com
SUMMARY:Building Insights - FM:Systems Virtual Event 2021
DESCRIPTION:Join us as we reimagine & transform workplace experiences at our free virtual User Conference. At Building Insights\, attendees have access to company updates\, roadmap information\, customer success stories\, top-notch networking\, thought-provoking learning opportunities\, and more. \nRegister to Attend
URL:https://amsworkplace.com/event/building-insights-fmsystems-virtual-event-2021/
LOCATION:United States
CATEGORIES:CAFM,Conferences,Go CAFM,Webcasts
ATTACH;FMTTYPE=image/jpeg:https://amsworkplace.com/wp-content/uploads/2021/07/fmsystems_building_insights_2021.jpg
END:VEVENT
BEGIN:VEVENT
DTSTART;VALUE=DATE:20200915
DTEND;VALUE=DATE:20200918
DTSTAMP:20260423T172041
CREATED:20200224T213638Z
LAST-MODIFIED:20200723T204334Z
UID:16232-1600128000-1600387199@amsworkplace.com
SUMMARY:Building Insights - FM:Systems Virtual Event 2020
DESCRIPTION:Building Insights – FM:Systems Virtual Event 2020\n\nRegister to Attend \nJoin FM:Systems at our virtual User Conference to stay on top of industry trends\, network with other users and industry professionals\, and further develop your knowledge of the FM:Systems product suite. \n \nKEYNOTE SPEAKER\nLYNN ALLEN – GLOBAL TECHNOLOGY EVANGELIST \nWe welcome Global Technology Evangelist Lynn Allen as our Keynote Speaker for our 2020 Building Insights Virtual Event! During her keynote\, Lynn will share the many BIM advantages for the FM industry along with some helpful tips and techniques to make the transition as painless as possible. \nWhy should you attend FM:Systems User Conference 2020?\n\nBecome More Productive: Increase your knowledge of products you already use. Learn about new tools\, technologies and capabilities within FM:Interact that can benefit you and your company. Improve your problem-solving skills\, help your company reduce costs and optimize the effectiveness of your facilities.\nGet Connected: Build relationships and get connected to the best FM:Interact professionals in the world. Just one tip or a new approach for solving a problem or addressing an area where you can more effectively manage your facilities will make the trip to the FM:Systems conference worthwhile.\nGain the Inside Track: Hear firsthand what FM:Systems’ executives have to say about where the industry and company are going and how this vision and strategy will help keep your organization on the leading edge.\nGlimpse the Future: Stay on top of industry trends and learn entirely new ways to take advantage of the power of FM:Interact. Check out the latest technologies and capabilities that we have developed to help you maximize efficiency in the way you manage your facilities data.\n\nRegister to Attend
URL:https://amsworkplace.com/event/building-insights-fmsystems-user-conference-2020/
LOCATION:NJ
CATEGORIES:CAFM,Conferences,Go CAFM,Webcasts
ATTACH;FMTTYPE=image/jpeg:https://amsworkplace.com/wp-content/uploads/2020/02/building_insights_2020_02.jpg
END:VEVENT
BEGIN:VEVENT
DTSTART;VALUE=DATE:20191107
DTEND;VALUE=DATE:20191109
DTSTAMP:20260423T172041
CREATED:20190815T194643Z
LAST-MODIFIED:20190815T194643Z
UID:15872-1573084800-1573257599@amsworkplace.com
SUMMARY:Tradeline Space Strategies 2019
DESCRIPTION:Top five current strategies for collecting and leveraging high quality space utilization data for analytics\n\n\n\n\n\nSession Identifier: Forum A \n\n\n\nThursday\, November 7\, 2019 – 11:10am–12:05pm\n\n\nFriday\, November 8\, 2019 – 11:45am–12:40pm \n\nSpeakers:\nBrian Haines\, Vice President of Strategy\, FM:Systems\nDan Lorenz\, FMP\, Exec Vice President\, AMS CAD + CAFM Solutions\n \n\n\nTraditional space survey audits just aren’t giving you the real story and repeatedly lead to misinformation\, but emerging technologies such as IoT sensors and smart devices are making the collection and tracking of space utilization data easier\, more automated\, and more accurate. In this session\, Brian Haines and Dan Lorenz identify five current best practices for gathering occupancy data and discuss the pros and cons of each toward enabling better-informed real estate and space planning decisions. They contrast implementation requirements and processes\, optimum utilization methods for maximum value\, share valuable decision-making analytics\, and illustrate practical applications and space planning benefits. \n\n\n\n\n\n  \nDan Lorenz\, President // AMS CAD + CAFM Solutions \nAs the President of AMS CAD + CAFM Solutions\, Dan leads a team of highly qualified professionals who provide consulting\, project management\, implementation\, and training on FM:Systems products.  With a professional background in facilities\, AutoCAD\, and software development\, Dan helped build the FM software services team at AMS over the last 16 years to include some of FM:Systems largest and most successful customers.  He plays a major role in business development at AMS\, bringing cutting edge CAD and CAFM software technology and solutions to the FM market.  Dan is an IFMA certified Facility Management Professional (FMP) who is a member of the local New Jersey IFMA chapter and has presented at several Autodesk and FM:Systems events as well as regional and national FM seminars and webinars.
URL:https://amsworkplace.com/event/tradeline-space-strategies-2019/
LOCATION:NJ
CATEGORIES:CAFM,Conferences
ATTACH;FMTTYPE=image/gif:https://amsworkplace.com/wp-content/uploads/2019/08/1906-webheader-animated1.gif
END:VEVENT
BEGIN:VEVENT
DTSTART;TZID=America/New_York:20190607T090000
DTEND;TZID=America/New_York:20190607T094000
DTSTAMP:20260423T172041
CREATED:20190603T191301Z
LAST-MODIFIED:20190603T193044Z
UID:15713-1559898000-1559900400@amsworkplace.com
SUMMARY:Tuft's Health Plan: Understanding How and Where We Work
DESCRIPTION:FM:Systems User Conference (2019) Breakout Session\nRoom: Southern II\nTime: 9:00am – 9:40am \nLearn how Tufts Health Plan & AMS CAD + CAFM Solutions setup an automated feed of 50+ security badging systems.  See how they were able to better analyze space\, identifying departments that are not diversifying their work from home days or that have low e-working numbers.  Discover how THP implemented wayfinding based on FM:Mobile using kiosks located throughout the facility to assist their employees in locating people and places for a more personal and productive workplace. \n  \nPrimary Learning Objectives \n\nIntegration from other systems into FMI\nWayfinding using FM:Mobile\nReporting on integration data\n\nBarbara Redmond\, Senior Manager of Real Estate Technology\, Building Security & Safety // Tufts Health Plan \nAs the Sr. Manager of Real Estate Technology\, Building Security & Safety at Tufts Health Plan\, Barbara and her team support the organization in their daily and long-term space needs\, utilization\, and strategic planning projects.  Barbara has been with Tufts Health Plan for 21 years\, and is responsible for helping to implement and manage FM:Interact to support space planning\, move efforts\, and service requests for the employees.  She plays a key role in special FM hardware\, software\, and technology projects such as kiosk systems\, security systems\, and mobile solutions for Tufts Health Plan to support the overall mission of the organization. \n  \nLisa Koskulics\, Applications Designer // AMS CAD + CAFM Solutions \nAs an Applications Designer at AMS CAD + CAFM Solutions\, Lisa consults with customers to identify workflows and processes that best support their needs using FM:Systems software.   Lisa is in her 5th year at AMS and plays an important role in helping to train new employees in both industry and technical areas\, and has recently taken on the role as Team Development Coordinator for the company.  She has an expertise in report writing and assists in project management responsibilities at multiple AMS accounts.  Lisa is an IFMA Facility Management Professional and is an active member of the New Jersey IFMA chapter.
URL:https://amsworkplace.com/event/tufts-health-plan-understanding-work/
LOCATION:Walt Disney World Swan and Dolphin Resort\, 1500 Epcot Resorts Blvd\, Lake Buena Vista\, 32830\, United States
CATEGORIES:CAFM,Conferences
ATTACH;FMTTYPE=image/png:https://amsworkplace.com/wp-content/uploads/2019/06/FMSystems-User-Conference-2019-.png
END:VEVENT
BEGIN:VEVENT
DTSTART;TZID=America/New_York:20190606T130000
DTEND;TZID=America/New_York:20190606T134000
DTSTAMP:20260423T172041
CREATED:20190603T190738Z
LAST-MODIFIED:20190603T190738Z
UID:15707-1559826000-1559828400@amsworkplace.com
SUMMARY:Integrated Facilities Management for an Activity-Based Workplace
DESCRIPTION:FM:Systems User Conference (2019) Breakout Session\nRoom: Southern I\nTime: 1:00pm – 1:40pm \nSamsung Electronics America (SEA) is the world’s largest manufacturer of mobile phones with its flagship Samsung GalaxyTM line.  SEA also markets semiconductors\, household appliances\, and other consumer electronics maintaining the world’s largest market share of flat-panel televisions.  With headquarters in Ridgefield Park\, NJ and North Texas\, SEA consolidated its facility management services and implemented FM:Interact to deliver it’s white-glove concierge employee services and prepare for their large corporate move to Plano TX. \nWith the help of AMS CAD + CAFM Solutions\, SEA implemented FM:Interact in a phased-approach to deliver to employees a suite of workplace tools to allow for the request and processing of Moves/Adds/Changes (MAC) and facility Service Requests.  Branded as MyWorkplace for communication and awareness\, the solution allowed SEA employees to make a better connection with facilities and streamline often confusing processes into a one-stop-shop.  Learn more about how SEA planned and delivered a best-in-class implementation of FM:Interact to support their new Integrated Facilities Management (IFM) for a redesigned Activity-Based Workplace. \n  \nPrimary Learning Objectives \n\nHow Integrated Facilities Management (IFM) with FM:Interact Streamlined FM Services for Samsung\nHow the Move Module helped support a massive move for Samsung’s Mobile HQ in Plano\, TX\nHow FM:Interact provided a foundation for additional concierge services for their employees\n\n  \nJackie Williams\, Senior Manager Workplace Operations // Samsung \nAs the Head of Workplace Operations for Samsung Electronics of America (SEA)\, Jackie leads a team of dynamic workplace professionals who focus on space and facility management operations\, sustainability and workplace technology across the United States. She plays an important role in tying all of these areas together to support Samsung employees in the workplace\, through the use of the FM:Systems Integrated Work Management Software\, internally branded as My Workplace. Jackie is an International Facilities Management Association (IFMA) Member and has held various roles within Facility Management for the last 15 years. \n  \nDan Lorenz\, President // AMS CAD + CAFM Solutions \nAs the President of AMS CAD + CAFM Solutions\, Dan leads a team of highly qualified professionals who provide consulting\, project management\, implementation\, and training on FM:Systems products.  With a professional background in facilities\, AutoCAD\, and software development\, Dan helped build the FM software services team at AMS over the last 16 years to include some of FM:Systems largest and most successful customers.  He plays a major role in business development at AMS\, bringing cutting edge CAD and CAFM software technology and solutions to the FM market.  Dan is an IFMA certified Facility Management Professional (FMP) who is a member of the local New Jersey IFMA chapter and has presented at several Autodesk and FM:Systems events as well as regional and national FM seminars and webinars. \n \n  \nDanny Hill\, Applications Engineer // AMS CAD + CAFM Solutions \nAs an Applications Engineer at AMS CAD + CAFM Solutions\, Danny works with customers to design and develop creative solutions using FM:Interact. Danny plays an important role in helping Samsung manage and continue to develop their FM:Systems software branded as MyWorkplace.  He has an advanced knowledge of development tools that help streamline processes with FM:Interact and also assists in space planning activities.  Danny has a BA in Information Technology at Rutgers University and is an IFMA Facility Management Professional.
URL:https://amsworkplace.com/event/integrated-facilities-management-activity-based-workplace/
LOCATION:Walt Disney World Swan and Dolphin Resort\, 1500 Epcot Resorts Blvd\, Lake Buena Vista\, 32830\, United States
CATEGORIES:CAFM,Conferences
ATTACH;FMTTYPE=image/png:https://amsworkplace.com/wp-content/uploads/2019/06/RSVP-page-header.png
END:VEVENT
BEGIN:VEVENT
DTSTART;VALUE=DATE:20190605
DTEND;VALUE=DATE:20190608
DTSTAMP:20260423T172041
CREATED:20190319T113957Z
LAST-MODIFIED:20190319T120835Z
UID:15326-1559692800-1559951999@amsworkplace.com
SUMMARY:FM:Systems User Conference (2019)
DESCRIPTION:FM:Systems User Conference (2019)\nRegister to Attend \n\nBecome More Productive: Increase your knowledge of products you already use. Learn about new tools\, technologies and capabilities within FM:Interact that can benefit you and your company. Improve your problem-solving skills\, help your company reduce costs and optimize the effectiveness of your facilities.\nGet Connected: Build relationships and get connected to the best FM:Interact professionals in the world. Just one tip or a new approach for solving a problem or addressing an area where you can more effectively manage your facilities will make the trip to the FM:Systems conference worthwhile.\nGain the Inside Track: Hear firsthand what FM:Systems’ executives have to say about where the industry and company are going and how this vision and strategy will help keep your organization on the leading edge.\nGlimpse the Future: Stay on top of industry trends and learn entirely new ways to take advantage of the power of FM:Interact. Check out the latest technologies and capabilities that we have developed to help you maximize efficiency in the way you manage your facilities data.\n\nRegister to Attend
URL:https://amsworkplace.com/event/fmsystems-user-conference-2019/
LOCATION:Walt Disney World Swan and Dolphin Resort\, 1500 Epcot Resorts Blvd\, Lake Buena Vista\, 32830\, United States
CATEGORIES:CAFM,Conferences
ATTACH;FMTTYPE=image/png:https://amsworkplace.com/wp-content/uploads/2019/03/FMSystems-User-Conference-2019.png
END:VEVENT
BEGIN:VEVENT
DTSTART;VALUE=DATE:20190408
DTEND;VALUE=DATE:20190411
DTSTAMP:20260423T172041
CREATED:20190404T193321Z
LAST-MODIFIED:20190404T211029Z
UID:15559-1554681600-1554940799@amsworkplace.com
SUMMARY:Facility Fusion 2019
DESCRIPTION:Facility Fusion 2019\n\nWe will be in Atlanta for Facility Fusion 2019! Meet with us at booth #600 and learn how we can get your team started with a CAFM system or take your existing system to the next level. \n  \nAMS CAD + CAFM Solutions is an award-winning Premier Certified Business Partner with FM:Systems of over 16 years that specializes in consulting\, design\, and implementation of facilities management software and technology solutions. \n\nBook a Meeting
URL:https://amsworkplace.com/event/facility-fusion-2019/
LOCATION:Atlanta Marriott Marquis\, 265 Peachtree Center Avenue\, Atlanta\, GA\, 30303\, United States
CATEGORIES:CAFM,Conferences
ATTACH;FMTTYPE=image/jpeg:https://amsworkplace.com/wp-content/uploads/2019/04/facility_fusion_atlanta_2019.jpg
END:VEVENT
BEGIN:VEVENT
DTSTART;TZID=America/New_York:20190327T103000
DTEND;TZID=America/New_York:20190327T103000
DTSTAMP:20260423T172041
CREATED:20190319T120250Z
LAST-MODIFIED:20190319T120716Z
UID:15483-1553682600-1553682600@amsworkplace.com
SUMMARY:NFMT 2019 - Comparing 5 Current Methods of Collecting Utilization Data
DESCRIPTION:NFMT 2019 – Comparing 5 Current Methods of Collecting Utilization Data\nLearn More \nAs the President of AMS CAD + CAFM Solutions (AMS)\, Dan leads a team of highly qualified professionals who provide consulting\, project management\, implementation\, and training on FM:Systems Integrated Facilities Management (IWMS) software.  Dan helped build the FM solutions division at AMS over the last 16 years to include some of FM:Systems largest and most successful customers.  He plays an important role in business development at AMS\, bringing cutting-edge CAD and CAFM software and technology solutions to the FM market.  Dan is an International Facilities Management Association (IFMA) Facility Management Professional (FMP) who is an active member of the New Jersey IFMA chapter and has presented at several Autodesk\, IFMA\, and FM:Systems events and webinars. \nTracking how space is being used is becoming easier and more automated thanks to emerging technologies such as IoT sensors and smart devices.  Traditional space survey audits just aren’t telling the real story and can often lead to misinformation.  This session will review and compare five current methods of gathering occupancy data and discuss the effectiveness and challenges of each to help you make informed decisions in real estate and space planning. \n\nLearn 5 Current Methods of Collecting Utilization Data\nComparison of Utilization Methods for Effectiveness\nPros + Cons of Implementing Utilization\nLearn Practical Uses of Utilization Data for Better Decision-Making\n\n\nSession ID: W3.39\nRoom Number: 339\nAudience: Intermediate\nCEU: 0.1 \nLearn More
URL:https://amsworkplace.com/event/nfmt-2019-comparing-5-current-methods-collecting-utilization-data/
LOCATION:The Baltimore Convention Center\, 1 W Pratt St\, Baltimore\, 21201\, United States
CATEGORIES:CAFM,Conferences
ATTACH;FMTTYPE=image/png:https://amsworkplace.com/wp-content/uploads/2019/03/NFMT_2019_Baltimore_MD.png
END:VEVENT
END:VCALENDAR