BEGIN:VCALENDAR
VERSION:2.0
PRODID:-//AMS Workplace Technology - ECPv6.13.2.1//NONSGML v1.0//EN
CALSCALE:GREGORIAN
METHOD:PUBLISH
X-ORIGINAL-URL:https://amsworkplace.com
X-WR-CALDESC:Events for AMS Workplace Technology
REFRESH-INTERVAL;VALUE=DURATION:PT1H
X-Robots-Tag:noindex
X-PUBLISHED-TTL:PT1H
BEGIN:VTIMEZONE
TZID:America/New_York
BEGIN:DAYLIGHT
TZOFFSETFROM:-0500
TZOFFSETTO:-0400
TZNAME:EDT
DTSTART:20240310T070000
END:DAYLIGHT
BEGIN:STANDARD
TZOFFSETFROM:-0400
TZOFFSETTO:-0500
TZNAME:EST
DTSTART:20241103T060000
END:STANDARD
END:VTIMEZONE
BEGIN:VEVENT
DTSTART;TZID=America/New_York:20240604T083000
DTEND;TZID=America/New_York:20240604T120000
DTSTAMP:20260425T093916
CREATED:20240503T203605Z
LAST-MODIFIED:20240503T212357Z
UID:20937-1717489800-1717502400@amsworkplace.com
SUMMARY:FM:Systems Client Summit: Fairfield\, NJ 2024
DESCRIPTION:Join us for a FREE half day of engaging content\, connecting with others in your industry\, and learning more about what is next for FM:Systems products\, and what to expect as a client now that FM:Systems is part of Johnson Controls. \n8:30AM – 9:00AM: Check-in \n9:00AM – 9:45AM: Welcome keynote \n9:45AM – 10:30AM: Product Roadmap \n10:30AM – 10:45AM: Break \n10:45AM – 11:15AM: Product & Customer Success \n11:15AM – 12:00PM: Site & Product Tours \nRegister to Attend
URL:https://amsworkplace.com/event/fmsystems-client-summit-fairfield-nj-2024/
LOCATION:AMS Workplace Technology – Highpoint Corporate Center\, 695 Rt 46 W\, Suite 407\, Fairfield\, NJ\, 07004\, United States
CATEGORIES:Conferences,Go CAFM
ATTACH;FMTTYPE=image/jpeg:https://amsworkplace.com/wp-content/uploads/2024/05/fmsystems-client-summit-2024-fairfield-nj-1200x627-1.jpg
END:VEVENT
BEGIN:VEVENT
DTSTART;TZID=America/New_York:20240626T140000
DTEND;TZID=America/New_York:20240626T143000
DTSTAMP:20260425T093916
CREATED:20240523T153737Z
LAST-MODIFIED:20240528T152558Z
UID:20957-1719410400-1719412200@amsworkplace.com
SUMMARY:Benefits of migrating from spreadsheets to automated workplace management
DESCRIPTION:Register to Attend \n\nUsing unintelligent CAD drawings with unlinked spreadsheets to try and manage your facilities is challenging and time-consuming. Fortunately\, there is a better way by implementing easy-to-use cloud-based FM:Systems software. \nDuring this webinar\, Dan Lorenz\, President of AMS Workplace Technology\, will discuss: \n\nHow moving from separate systems to a centralized facility management solution can increase your organization’s productivity\nHow manual unlinked methods can easily be replaced for better reporting and more accurate decision making\nHow space data is a moving target and an automated solution can allow for easy-to-use point-and-click functionality to keep it current\n\n \nAMS Workplace Technology is an award-winning Premier Certified Business Partner with FM:Systems for over 22 years that specializes in consulting\, design\, and implementation of facilities management software and technology solutions. \nIf you are still using spreadsheets to manage your facilities\, you owe it to yourself to attend this webinar. \n\nRegister to Attend
URL:https://amsworkplace.com/event/benefits-of-migrating-from-spreadsheets-to-automated-workplace-management-2/
LOCATION:Online\, United States
CATEGORIES:CAFM,Go CAFM,Industry Webcasts,Webcasts
ATTACH;FMTTYPE=image/jpeg:https://amsworkplace.com/wp-content/uploads/2019/10/AMS_FMS_Webinar_02.jpg
END:VEVENT
END:VCALENDAR