BEGIN:VCALENDAR
VERSION:2.0
PRODID:-//AMS Workplace Technology - ECPv6.13.2.1//NONSGML v1.0//EN
CALSCALE:GREGORIAN
METHOD:PUBLISH
X-ORIGINAL-URL:https://amsworkplace.com
X-WR-CALDESC:Events for AMS Workplace Technology
REFRESH-INTERVAL;VALUE=DURATION:PT1H
X-Robots-Tag:noindex
X-PUBLISHED-TTL:PT1H
BEGIN:VTIMEZONE
TZID:America/New_York
BEGIN:DAYLIGHT
TZOFFSETFROM:-0500
TZOFFSETTO:-0400
TZNAME:EDT
DTSTART:20240310T070000
END:DAYLIGHT
BEGIN:STANDARD
TZOFFSETFROM:-0400
TZOFFSETTO:-0500
TZNAME:EST
DTSTART:20241103T060000
END:STANDARD
BEGIN:DAYLIGHT
TZOFFSETFROM:-0500
TZOFFSETTO:-0400
TZNAME:EDT
DTSTART:20250309T070000
END:DAYLIGHT
BEGIN:STANDARD
TZOFFSETFROM:-0400
TZOFFSETTO:-0500
TZNAME:EST
DTSTART:20251102T060000
END:STANDARD
BEGIN:DAYLIGHT
TZOFFSETFROM:-0500
TZOFFSETTO:-0400
TZNAME:EDT
DTSTART:20260308T070000
END:DAYLIGHT
BEGIN:STANDARD
TZOFFSETFROM:-0400
TZOFFSETTO:-0500
TZNAME:EST
DTSTART:20261101T060000
END:STANDARD
END:VTIMEZONE
BEGIN:VTIMEZONE
TZID:America/Phoenix
BEGIN:STANDARD
TZOFFSETFROM:-0700
TZOFFSETTO:-0700
TZNAME:MST
DTSTART:20240101T000000
END:STANDARD
END:VTIMEZONE
BEGIN:VTIMEZONE
TZID:Europe/London
BEGIN:DAYLIGHT
TZOFFSETFROM:+0000
TZOFFSETTO:+0100
TZNAME:BST
DTSTART:20250330T010000
END:DAYLIGHT
BEGIN:STANDARD
TZOFFSETFROM:+0100
TZOFFSETTO:+0000
TZNAME:GMT
DTSTART:20251026T010000
END:STANDARD
END:VTIMEZONE
BEGIN:VTIMEZONE
TZID:America/Los_Angeles
BEGIN:DAYLIGHT
TZOFFSETFROM:-0800
TZOFFSETTO:-0700
TZNAME:PDT
DTSTART:20260308T100000
END:DAYLIGHT
BEGIN:STANDARD
TZOFFSETFROM:-0700
TZOFFSETTO:-0800
TZNAME:PST
DTSTART:20261101T090000
END:STANDARD
END:VTIMEZONE
BEGIN:VEVENT
DTSTART;TZID=America/New_York:20240626T140000
DTEND;TZID=America/New_York:20240626T143000
DTSTAMP:20260425T095751
CREATED:20240523T153737Z
LAST-MODIFIED:20240528T152558Z
UID:20957-1719410400-1719412200@amsworkplace.com
SUMMARY:Benefits of migrating from spreadsheets to automated workplace management
DESCRIPTION:Register to Attend \n\nUsing unintelligent CAD drawings with unlinked spreadsheets to try and manage your facilities is challenging and time-consuming. Fortunately\, there is a better way by implementing easy-to-use cloud-based FM:Systems software. \nDuring this webinar\, Dan Lorenz\, President of AMS Workplace Technology\, will discuss: \n\nHow moving from separate systems to a centralized facility management solution can increase your organization’s productivity\nHow manual unlinked methods can easily be replaced for better reporting and more accurate decision making\nHow space data is a moving target and an automated solution can allow for easy-to-use point-and-click functionality to keep it current\n\n \nAMS Workplace Technology is an award-winning Premier Certified Business Partner with FM:Systems for over 22 years that specializes in consulting\, design\, and implementation of facilities management software and technology solutions. \nIf you are still using spreadsheets to manage your facilities\, you owe it to yourself to attend this webinar. \n\nRegister to Attend
URL:https://amsworkplace.com/event/benefits-of-migrating-from-spreadsheets-to-automated-workplace-management-2/
LOCATION:Online\, United States
CATEGORIES:CAFM,Go CAFM,Industry Webcasts,Webcasts
ATTACH;FMTTYPE=image/jpeg:https://amsworkplace.com/wp-content/uploads/2019/10/AMS_FMS_Webinar_02.jpg
END:VEVENT
BEGIN:VEVENT
DTSTART;TZID=America/New_York:20240828T140000
DTEND;TZID=America/New_York:20240828T143000
DTSTAMP:20260425T095751
CREATED:20240731T164020Z
LAST-MODIFIED:20240806T200333Z
UID:20995-1724853600-1724855400@amsworkplace.com
SUMMARY:Managing moves more effectively using the right tools
DESCRIPTION:Register to Attend \n\nOrganizations who are constantly changing\, growing\, merging\, acquiring\, redirecting and adapting to the demands of today’s fast paced work environments require a new way of thinking about planning and managing people\, space and moves. \nFM:Systems and AMS Workplace Technology discuss the challenges when using manually created drawings with unlinked spreadsheets to try and manage Moves\, Adds and Changes (MAC). Fortunately\, there is a better way by implementing easy-to-use cloud-based facility management software with visual solutions that make moves much more productive. \nDuring this webinar\, Dan Lorenz\, President of AMS Workplace Technology\, will discuss: \n\nHow manual static methods can easily be replaced for easier creating and processing of moves\nHow new hires\, individual moves\, group moves and offboarding can be automated to increase your productivity\nHow services and requirements for moves can be easily managed with move planners and department admins with drag-and-drop capability\n\nAMS Workplace Technology is an award-winning Premier Certified Business Partner with FM:Systems of over 20 years that specializes in consulting\, design\, and implementation of facilities management software and technology solutions. \nIf you are still using spreadsheets to manage your facilities\, you owe it to yourself to attend this webinar. \n\nRegister to Attend
URL:https://amsworkplace.com/event/managing-moves-more-effectively-using-the-right-tools/
LOCATION:Online\, United States
CATEGORIES:Webcasts
ATTACH;FMTTYPE=image/gif:https://amsworkplace.com/wp-content/uploads/2024/07/MovesWebinar_1200x1200_animated.gif
END:VEVENT
BEGIN:VEVENT
DTSTART;VALUE=DATE:20241009
DTEND;VALUE=DATE:20241012
DTSTAMP:20260425T095751
CREATED:20240930T200050Z
LAST-MODIFIED:20240930T200050Z
UID:21039-1728432000-1728691199@amsworkplace.com
SUMMARY:IFMA World Workplace 2024
DESCRIPTION:What is World Workplace?\nIFMA’s World Workplace is the largest\, most highly acclaimed conference in the world. It’s where all facility management professionals gather to discover the latest FM innovations\, make valuable connections\, and improve essential skills. Join us for the top facility management event\, where you’ll advance your career and knowledge with cutting-edge thought leadership and educational sessions. \nWhy Attend World Workplace?\nEstablished in 1995\, World Workplace is the original forum for groundbreaking discussions on facility management and the wider built environment. \n\nCareer Development\n\nGet best practices\, valuable takeaways and thought-leadership from industry leaders from around the world. Stay updated on the latest trends and topics in facility management.\n\nExplore the Expo\n\nFrom educational sessions and product demonstration to one-on-one discussions with the leaders in FM solutions\, the expo is where you’ll find the best products and services for your facility needs. Learn how to use the latest FM tools and tech. Get answers to big questions for your facilities.\n\nNetworking\n\nBuild your professional network and meet other industry professionals. Enjoy happy hours\, cocktail events\, breakfast meetings and other facility management professional meetups.>/li>\n\nLearning\n\nLearn everything you ever wanted to as a facility management professional. World Workplace is the must-attend event for serious FMs looking to advance their career in facility management.\n\n\nJoin AMS at IFMA’s World Workplace 2024 in San Antonio\, TX on 10/09/2024-10/11/2024! \nRegister to Attend
URL:https://amsworkplace.com/event/ifma-world-workplace-2024/
LOCATION:Henry B. Gonzalez Convention Center\, 900 E. Market St.\, San Antonio\, TX\, 78205
CATEGORIES:CAFM,Conferences,IFMA
ATTACH;FMTTYPE=image/png:https://amsworkplace.com/wp-content/uploads/2024/09/ifma-world-worldplace-2024-1-1.png
END:VEVENT
BEGIN:VEVENT
DTSTART;VALUE=DATE:20241101
DTEND;VALUE=DATE:20241104
DTSTAMP:20260425T095751
CREATED:20240930T194819Z
LAST-MODIFIED:20240930T194819Z
UID:21061-1730419200-1730678399@amsworkplace.com
SUMMARY:CoreNet Global Summit - Washington\, D.C.
DESCRIPTION:Place matters. Spaces matter. And the people who interact with – and in – those places and spaces matter even more. Corporate real estate professionals have the unique power to fuel those human connections and drive organizational success and corporate evolution throughout the built environment. The CoreNet Global Summit will focus on people-centric real estate decision-making across all domains of the profession\, including portfolio management and optimization\, location strategy\, risk management\, workplace design\, service delivery\, employee experience\, FM\, ESG\, and DEI. \nJoin AMS at this year’s CoreNet Global Summit in Washington\, D.C. from 11/01/2024 – 11/03/24! Contact us and let us know if you are attending. We would love to meet with you in person! \nRegister to Attend
URL:https://amsworkplace.com/event/corenet-global-summit-2024/
LOCATION:Gaylord National Resort & Convention Center\, 201 Waterfront Street\, National Harbor\, MD\, 20745
CATEGORIES:CAFM,Conferences
ATTACH;FMTTYPE=image/png:https://amsworkplace.com/wp-content/uploads/2024/09/corenet-2024.png
END:VEVENT
BEGIN:VEVENT
DTSTART;TZID=America/Phoenix:20241112T103500
DTEND;TZID=America/Phoenix:20241112T113000
DTSTAMP:20260425T095751
CREATED:20240919T193518Z
LAST-MODIFIED:20241024T192553Z
UID:21052-1731407700-1731411000@amsworkplace.com
SUMMARY:Space Strategies 2024
DESCRIPTION:At this conference\, you’ll get the critical space planning and management data\, metrics\, processes\, and technology solutions that you’ll need to meet goals for successful hybrid workplace initiatives\, higher space utilization\, increased flexibility\, and better workplace engagement and experience. This includes everything from data gathering\, metrics\, and analytical methods\, to hybrid workplaces\, officing solutions\, attracting and recruiting workers\, making better use of existing spaces\, worker productivity\, shrinking space footprints\, or adding new space. \nJoin AMS at Tradeline’s Space Strategies 2024 conference in Scottsdale\, AZ on 11/12/2024\, 10:30am!\nDan Lorenz\, president of AMS\, will be presenting! \nRegister to Attend \nSession Info\nIntegrated Workplace Management Systems: Critical steps for implementation\, growth\, maximum performance\nIntegrated Workplace Management Systems (IWMS) have proven critical in today’s dynamic workplace environment for optimizing both workplace efficiency and operations\, and here you’ll get a framework for successful IWMS implementation and sustainable growth. Dan Lorenz illustrates success factors for setting performance targets\, software deployment and ongoing data maintenance\, and organizational resources required. He lays out common pitfalls\, compares quick wins with long-term strategic objectives\, highlights change management best practices\, and continuous improvement processes for optimizing IWMS performance over time. \nSpeaker Info\nDan LorenzPresidentAMS Workplace Technology \n 
URL:https://amsworkplace.com/event/space-strategies-2024/
LOCATION:Hyatt Regency Scottsdale\, Scottsdale\, AZ\, United States
CATEGORIES:CAFM,Conferences
ATTACH;FMTTYPE=image/gif:https://amsworkplace.com/wp-content/uploads/2024/09/2406-LandingPage-1320px1.gif
END:VEVENT
BEGIN:VEVENT
DTSTART;TZID=America/New_York:20241204T130000
DTEND;TZID=America/New_York:20241204T133000
DTSTAMP:20260425T095751
CREATED:20241121T205815Z
LAST-MODIFIED:20241121T205815Z
UID:21209-1733317200-1733319000@amsworkplace.com
SUMMARY:The Power of a Modern SaaS Platform for Facility Management
DESCRIPTION:Facility managers today face numerous challenges: aging infrastructure\, diverse property portfolios\, new security threats\, and the need for better data-driven decision-making. In this 30-minute session\, we’ll dive into how a modern SaaS platform can integrate all aspects of facility management\, from real estate and lease management to maintenance\, space optimization\, and capital planning. We’ll also cover the critical role of Operational Technology (OT) security as organizations transition to standardized IP-based building systems. \nYou’ll learn how leveraging industry data standards\, such as those from IFMA and Uniformat\, makes benchmarking\, onboarding\, and managing facilities easier and more efficient. Finally\, we’ll share best practices for preparing your data to ensure a successful transition to a new system. Join us for insights into transforming your facility management strategy with the power of a modern SaaS platform. \nJoin AMS and Nuvolo on this webinar to learn more about how a modern SaaS platform will take your facility management to the next level. \n\nRegister to Attend
URL:https://amsworkplace.com/event/the-power-of-a-modern-saas-platform-for-facility-management/
LOCATION:Online\, United States
ATTACH;FMTTYPE=image/jpeg:https://amsworkplace.com/wp-content/uploads/2021/12/Nuvolo_AMS.jpg
END:VEVENT
BEGIN:VEVENT
DTSTART;TZID=America/New_York:20250428T170000
DTEND;TZID=America/New_York:20250430T150000
DTSTAMP:20260425T095751
CREATED:20250425T213650Z
LAST-MODIFIED:20250426T185408Z
UID:21358-1745859600-1746025200@amsworkplace.com
SUMMARY:AMS at Building Insights – FM:Systems User Conference 2025
DESCRIPTION:
URL:https://amsworkplace.com/event/ams-at-building-insights-fmsystems-user-conference-2025/
LOCATION:The Scottsdale Plaza\, 7200 N Scottsdale Rd\, Scottsdale\, AZ\, 85253\, United States
CATEGORIES:Conferences
END:VEVENT
BEGIN:VEVENT
DTSTART;TZID=Europe/London:20250610T090000
DTEND;TZID=Europe/London:20250610T150000
DTSTAMP:20260425T095751
CREATED:20250401T180739Z
LAST-MODIFIED:20250401T180739Z
UID:21330-1749546000-1749567600@amsworkplace.com
SUMMARY:FM:Systems Client Summit London 2025
DESCRIPTION:Join Dan Lorenz\, President of AMS Workplace Technology\, and FM:Systems for an exclusive\, customer-only event designed to fuel connection\, innovation\, and growth! Kick off your day with coffee and networking\, then dive into engaging sessions including an interactive roundtable on best practices and success stories\, a hands-on workshop where your feedback shapes the future of FM:Systems products\, and a dedicated session on making the most of our resources. \nWith plenty of opportunities to connect with peers and the FM:Systems team\, this event is all about empowering you to drive success in your workplace. Don’t miss this unique chance to collaborate\, learn\, and leave inspired! \nRegister to Attend
URL:https://amsworkplace.com/event/fmsystems-client-summit-london-2025/
LOCATION:Hyatt Regency London Blackfriars\, 19 New Bridge St\, London\, United Kingdom
CATEGORIES:CAFM,Conferences
ATTACH;FMTTYPE=image/png:https://amsworkplace.com/wp-content/uploads/2025/04/client-summit-london.png
END:VEVENT
BEGIN:VEVENT
DTSTART;TZID=America/New_York:20250813T073000
DTEND;TZID=America/New_York:20250815T153000
DTSTAMP:20260425T095751
CREATED:20250630T131214Z
LAST-MODIFIED:20250630T131358Z
UID:21429-1755070200-1755271800@amsworkplace.com
SUMMARY:WorkX Conference 2025 - Your Blueprint for Future-Ready Workspaces
DESCRIPTION:As hybrid work evolves\, organizations must optimize space\, enhance engagement\, and align workplace strategies with business goals. WorkX brings together real estate\, workplace\, and facilities leaders to explore data-driven solutions\, experience-driven design\, and emerging technologies shaping the future of work. \nJoin AMS at the WorkX 2025 conference in Boston\, MA on 08/14/2025\, at 3:00pm!\nDanny Hill\, Senior IWMS Operations Architect at AMS Workplace Technology\, will be presenting! \nRegister to Attend \nSession Info\nIntegrated Workplace Management Systems: Critical steps for implementation\, growth\, maximum performance\nFrom visitor management\, to security\, to flexible space\, there are so many factors that impact workers while in the office. Identifying areas to improve experience through services and technologies will help to ease the burden of using the office. Overcome implementation challenges\, consider ROI and zero-in on the best way to level up experience for your organization.  \nSpeaker Info\nDanny HillSenior IWMS Operations ArchitectAMS Workplace Technology \nAdditional Session Information \n 
URL:https://amsworkplace.com/event/workx-2025/
LOCATION:The Revere Hotel\, 200 Stuart Street\, Boston\, MA\, 02116\, United States
CATEGORIES:CAFM,Conferences
ATTACH;FMTTYPE=image/png:https://amsworkplace.com/wp-content/uploads/2025/06/WorkX-Conference-2025.png
END:VEVENT
BEGIN:VEVENT
DTSTART;VALUE=DATE:20250917
DTEND;VALUE=DATE:20250920
DTSTAMP:20260425T095751
CREATED:20250915T133422Z
LAST-MODIFIED:20250915T133422Z
UID:21485-1758067200-1758326399@amsworkplace.com
SUMMARY:IFMA World Workplace 2025
DESCRIPTION:The premier destination for FM professionals\nAt World Workplace\, we’re bringing together the brightest minds in facility management\, workplace strategy and business innovation.\nWhether you’re a seasoned pro or just dipping your toes into the world of facility management\, World Workplace has something for everyone. Come for the knowledge\, stay for the experience and leave with a toolbox full of ideas to revolutionize your facilities. \nWhy Attend World Workplace?\n\nCareer Development\nGet best practices\, valuable takeaways and thought-leadership from industry leaders from around the world. Stay updated on the latest trends and topics in facility management.\n\nExplore the Expo\nFind the best products and services to improve and transform your facilities. Connect one-on-one with leading companies in every category of FM solutions. Product demos and educational sessions show you how to use the latest tools and tech.\n\nNetworking\nBuild your professional network and meet other industry professionals. Enjoy happy hours\, social events\, breakfast meetings and other facility management professional meetings.\n\nLearning\nLearn everything you ever wanted to as a facility management professional. World Workplace is the must-attend event for serious FMs looking to advance their career in facility management. \nJoin AMS at IFMA’s World Workplace 2025 in Minneapolis\, MN on 9/17/2025-9/19/2025! \nRegister to Attend
URL:https://amsworkplace.com/event/ifma-world-workplace-2025/
LOCATION:Minneapolis Convention Center\, 1301 2nd Ave S\, Minneapolis\, MN\, 55404\, United States
CATEGORIES:CAFM,Conferences
ATTACH;FMTTYPE=image/png:https://amsworkplace.com/wp-content/uploads/2025/09/IFMA-WW-2025.png
END:VEVENT
BEGIN:VEVENT
DTSTART;VALUE=DATE:20251027
DTEND;VALUE=DATE:20251030
DTSTAMP:20260425T095751
CREATED:20250915T133431Z
LAST-MODIFIED:20250915T133431Z
UID:21494-1761523200-1761782399@amsworkplace.com
SUMMARY:CoreNet Global Summit - Anaheim\, CA
DESCRIPTION:Innovate to Thrive: Creating Meaningful Change\, Leading with Purpose\n\nThe 2025 CoreNet Global Summit | North America will focus on creating meaningful change and leading with purpose in the corporate real estate (CRE) industry. Innovation in CRE is about more than embracing new technologies—it is about reimagining workspaces\, optimizing portfolios\, driving sustainability\, and fostering inclusivity. Attendees will gather in Anaheim to empower one another\, lead transformation in their organizations by adopting future-forward strategies\, navigate economic shifts\, and deliver value to stakeholders. Through thought-provoking sessions\, hands-on workshops\, and unparalleled networking opportunities\, you will gain actionable insights to innovate with confidence\, adapt to change\, and build resilient\, purpose-driven CRE practices. Be part of the movement shaping the future of our industry! \nJoin AMS at this year’s CoreNet Global Summit in Anaheim\, CA from 10/27/25 – 10/29/25! Contact us and let us know if you are attending. We would love to meet with you in person! \nRegister to Attend
URL:https://amsworkplace.com/event/corenet-global-summit-2025/
LOCATION:Anaheim Convention Center\, 800 W Katella Ave\, Anaheim\, CA\, 92802\, United States
CATEGORIES:CAFM,Conferences
ATTACH;FMTTYPE=image/png:https://amsworkplace.com/wp-content/uploads/2025/09/CoreNet-2025-scaled.png
END:VEVENT
BEGIN:VEVENT
DTSTART;TZID=America/Los_Angeles:20260406T120000
DTEND;TZID=America/Los_Angeles:20260409T140000
DTSTAMP:20260425T095751
CREATED:20260304T210351Z
LAST-MODIFIED:20260313T200435Z
UID:21616-1775476800-1775743200@amsworkplace.com
SUMMARY:IFMA Facility Fusion 2026
DESCRIPTION:IFMA Facility Fusion 2026\n\nWe will be in San Francisco for Facility Fusion 2026 at booth: 807! AMS Workplace Technology President\, Dan Lorenz\, will be presenting with Brian Treu\, Digital Sales Director at Johnson Controls\, on “AI and Predictive Intelligence for Smarter Facilities“. Don’t miss this informative session on using AI for facilities! \nPresentation Session Info\nTopic: AI and Predictive Intelligence for Smarter Facilities \nTime: Wednesday April 8th from 12-12:30 PM PT \nPlace: Innovation Arena \nContent Summary \nAs facilities teams navigate rising operating costs\, aging infrastructure\, and evolving workplace demands\, the role of maintenance is increasingly shifting from reactive support to a more strategic driver of performance. \nThis session will open a forward-looking discussion on how Johnson Controls is bringing together predictive maintenance\, occupancy intelligence\, energy management\, and space planning to help reshape facility operations. We’ll explore what this connected approach means for facilities and maintenance leaders: how AI-enabled insights can influence work order prioritization\, how occupancy patterns may affect system runtime and asset wear\, and how energy optimization efforts align with long-term asset health. \nAttendees will leave with a clearer understanding of how Johnson Controls is evolving its approach to integrated building performance\, along with practical considerations for building a more resilient\, efficient\, and insight-driven maintenance program within their own organizations. \nSpeaker Info\nDan Lorenz President AMS Workplace Technology \n  \nRegister to Attend \n  \n \nAMS Workplace Technology is an award-winning Premier Certified Business Partner with Johnson Controls (formerly FM:Systems) of over 20 years that specializes in consulting\, design\, and implementation of facilities management software and technology solutions.
URL:https://amsworkplace.com/event/ifma-facility-fusion-2026/
LOCATION:Hilton San Francisco Union Square\, 333 O'Farrell St\, San Francisco\, CA\, 94102\, United States
CATEGORIES:CAFM,Conferences,Facility Fusion,IFMA
ATTACH;FMTTYPE=image/jpeg:https://amsworkplace.com/wp-content/uploads/2026/03/FF26_Hero_image_19201.jpg
END:VEVENT
BEGIN:VEVENT
DTSTART;VALUE=DATE:20260413
DTEND;VALUE=DATE:20260416
DTSTAMP:20260425T095751
CREATED:20260105T143923Z
LAST-MODIFIED:20260320T153619Z
UID:21572-1776038400-1776297599@amsworkplace.com
SUMMARY:Building Insights - Johnson Controls (FM:Systems) User Conference 2026
DESCRIPTION:Join us April 13 – 15\, 2026 as we reimagine & transform workplace experiences at our annual User Conference – Building Insights 2026 in New Orleans\, LA. At Building Insights\, attendees will have access to industry thought leadership\, customer stories\, top-notch networking\, learning opportunities including training\, product updates\, & more. AMS is excited to announce that we will be presenting at the conference with MIT Lincoln Laboratory! \nPresentation Session Info\nTopic: Building Trust – MIT Lincoln Laboratory’s Workplace Data Journey \nTime: Tuesday April 14th from 12:30-1:10 PM CT \nPlace: La Fourche \nContent Summary \nMIT Lincoln Laboratory had long used OpenBlue Workplace\, but primarily in a limited capacity. As the organization sought to improve how space data was governed\, shared\, and used for decision-making\, MIT LL began a broader effort to establish Workplace as a trusted source of truth for its space portfolio. \nThis initiative required more than expanding a technology platform – it required clarifying ownership of space data\, aligning stakeholders across the organization\, and developing sustainable processes for managing and maintaining accurate information. \nWorking alongside AMS Workplace Technology as a technical implementation partner\, MIT LL defined new workflows\, refined business requirements\, and expanded the platform through multiple phases of implementation. The effort brought together organizational leadership\, facilities teams\, and technical specialists to address challenges related to data governance\, system integration\, and long-term adoption. \nThis session will share MIT LL’s journey – from early planning and stakeholder alignment to navigating data and integration complexities – while highlighting practical lessons learned. Attendees will gain insight into how organizations can evolve workplace technology platforms into trusted operational systems for managing and understanding their space portfolio. \nTakeaways & Objectives: \n\nHow organizations can establish governance and ownership for space data across multiple stakeholders\nPractical strategies for building trust in workplace and facilities data as a shared organizational resource\nLessons learned from planning and executing a multi-phase IWMS implementation\nApproaches for addressing data readiness\, integrations\, and long-term platform sustainability\nHow organizational alignment\, change management\, and technical implementation work together to support large workplace technology initiatives\n\nSpeaker Info\nLisa KoskulicsDirector of Product & Services \n  \n  \n  \n  \n  \n  \nRegister to Attend
URL:https://amsworkplace.com/event/building-insights-johnson-controls-fmsystems-user-conference-2026/
LOCATION:CA
CATEGORIES:Conferences
ATTACH;FMTTYPE=image/jpeg:https://amsworkplace.com/wp-content/uploads/2026/01/Building-Insights-Johnson-Controls-FMSystems-User-Conference-2026-e1774024075433.jpg
END:VEVENT
END:VCALENDAR