BEGIN:VCALENDAR
VERSION:2.0
PRODID:-//AMS Workplace Technology - ECPv6.13.2.1//NONSGML v1.0//EN
CALSCALE:GREGORIAN
METHOD:PUBLISH
X-ORIGINAL-URL:https://amsworkplace.com
X-WR-CALDESC:Events for AMS Workplace Technology
REFRESH-INTERVAL;VALUE=DURATION:PT1H
X-Robots-Tag:noindex
X-PUBLISHED-TTL:PT1H
BEGIN:VTIMEZONE
TZID:America/New_York
BEGIN:DAYLIGHT
TZOFFSETFROM:-0500
TZOFFSETTO:-0400
TZNAME:EDT
DTSTART:20230312T070000
END:DAYLIGHT
BEGIN:STANDARD
TZOFFSETFROM:-0400
TZOFFSETTO:-0500
TZNAME:EST
DTSTART:20231105T060000
END:STANDARD
END:VTIMEZONE
BEGIN:VEVENT
DTSTART;VALUE=DATE:20230801
DTEND;VALUE=DATE:20230805
DTSTAMP:20260425T230742
CREATED:20230712T145823Z
LAST-MODIFIED:20230712T145823Z
UID:20490-1690848000-1691193599@amsworkplace.com
SUMMARY:CFTA 2023 Annual Conference
DESCRIPTION:AMS Workplace Technology and St. Louis University will present at the Campus FM Technology Association 2023 conference! We will be presenting how SLU implemented FM:Systems software and streamlined their maintenance module for fire extinguisher inspections using mobile devices and barcoding. \nMore details on LinkedIn \nRegister to Attend
URL:https://amsworkplace.com/event/cfta-annual-conference/
LOCATION:Washington University\, 1 Brookings Drive\, St. Louis\, MO\, 63130
CATEGORIES:Conferences
ATTACH;FMTTYPE=image/jpeg:https://amsworkplace.com/wp-content/uploads/2023/07/CFTA-2023.jpg
END:VEVENT
END:VCALENDAR