BEGIN:VCALENDAR
VERSION:2.0
PRODID:-//AMS Workplace Technology - ECPv6.13.2.1//NONSGML v1.0//EN
CALSCALE:GREGORIAN
METHOD:PUBLISH
X-ORIGINAL-URL:https://amsworkplace.com
X-WR-CALDESC:Events for AMS Workplace Technology
REFRESH-INTERVAL;VALUE=DURATION:PT1H
X-Robots-Tag:noindex
X-PUBLISHED-TTL:PT1H
BEGIN:VTIMEZONE
TZID:Europe/London
BEGIN:DAYLIGHT
TZOFFSETFROM:+0000
TZOFFSETTO:+0100
TZNAME:BST
DTSTART:20230326T010000
END:DAYLIGHT
BEGIN:STANDARD
TZOFFSETFROM:+0100
TZOFFSETTO:+0000
TZNAME:GMT
DTSTART:20231029T010000
END:STANDARD
END:VTIMEZONE
BEGIN:VEVENT
DTSTART;VALUE=DATE:20230523
DTEND;VALUE=DATE:20230524
DTSTAMP:20260425T235659
CREATED:20230512T132055Z
LAST-MODIFIED:20230515T214017Z
UID:20467-1684800000-1684886399@amsworkplace.com
SUMMARY:FM:Systems Client Summit UK 2023
DESCRIPTION:Come and attend a one-day event at the prestigious London Stock Exchange Group on May 23rd. The event is exclusively complimentary to FM:Systems’ clients and promises to deliver a host of exciting activities. At the event\, you will discover FM:Systems’ product vision and roadmap\, hybrid workplace trends and strategies\, as well as listen to our clients’ success stories. You will also have the opportunity to network with other attendees and expand your professional circle. \nWe are delighted to announce that Dan Lorenz\, President at AMS Workplace Technology\, will be presenting three (3) IWMS Customer Success stories featuring Fortune 100 customers who successfully implemented FMS:Workplace in the U.S.\, Europe\, and worldwide. \nRegister to Attend
URL:https://amsworkplace.com/event/fmsystems-client-summit-uk-2023/
LOCATION:London Stock Exchange\, 10 Paternoster Square\, London\, EC4M 7LS\, United Kingdom
CATEGORIES:Conferences,Go CAFM
ATTACH;FMTTYPE=image/jpeg:https://amsworkplace.com/wp-content/uploads/2023/05/FMS_Client_Summit_2023_UK.jpg
END:VEVENT
END:VCALENDAR