BEGIN:VCALENDAR
VERSION:2.0
PRODID:-//AMS Workplace Technology - ECPv6.13.2.1//NONSGML v1.0//EN
CALSCALE:GREGORIAN
METHOD:PUBLISH
X-WR-CALNAME:AMS Workplace Technology
X-ORIGINAL-URL:https://amsworkplace.com
X-WR-CALDESC:Events for AMS Workplace Technology
REFRESH-INTERVAL;VALUE=DURATION:PT1H
X-Robots-Tag:noindex
X-PUBLISHED-TTL:PT1H
BEGIN:VTIMEZONE
TZID:America/New_York
BEGIN:DAYLIGHT
TZOFFSETFROM:-0500
TZOFFSETTO:-0400
TZNAME:EDT
DTSTART:20230312T070000
END:DAYLIGHT
BEGIN:STANDARD
TZOFFSETFROM:-0400
TZOFFSETTO:-0500
TZNAME:EST
DTSTART:20231105T060000
END:STANDARD
END:VTIMEZONE
BEGIN:VEVENT
DTSTART;VALUE=DATE:20230516
DTEND;VALUE=DATE:20230519
DTSTAMP:20260425T235206
CREATED:20230512T125105Z
LAST-MODIFIED:20230512T125105Z
UID:20461-1684195200-1684454399@amsworkplace.com
SUMMARY:ServiceNow Knowledge 2023 Conference
DESCRIPTION:Visit AMS and Nuvolo at our booth at the ServiceNow Knowledge 2023 Conference May 16 – 18 in Las Vegas! \nLearn More
URL:https://amsworkplace.com/event/servicenow-knowledge-2023-conference/
LOCATION:United States
CATEGORIES:Conferences,Go CAFM
END:VEVENT
END:VCALENDAR